BEGIN:VCALENDAR
VERSION:2.0
PRODID:-//அருள்மிகு சிவன் கோவில் - ECPv6.15.20//NONSGML v1.0//EN
CALSCALE:GREGORIAN
METHOD:PUBLISH
X-ORIGINAL-URL:https://sivankovil.ch
X-WR-CALDESC:Events for அருள்மிகு சிவன் கோவில்
REFRESH-INTERVAL;VALUE=DURATION:PT1H
X-Robots-Tag:noindex
X-PUBLISHED-TTL:PT1H
BEGIN:VTIMEZONE
TZID:UTC
BEGIN:STANDARD
TZOFFSETFROM:+0000
TZOFFSETTO:+0000
TZNAME:UTC
DTSTART:20240101T000000
END:STANDARD
END:VTIMEZONE
BEGIN:VEVENT
DTSTART;VALUE=DATE:20250114
DTEND;VALUE=DATE:20250115
DTSTAMP:20260421T194527
CREATED:20241216T103831Z
LAST-MODIFIED:20241216T110009Z
UID:7814-1736812800-1736899199@sivankovil.ch
SUMMARY:தைப்பொங்கல்
DESCRIPTION:
URL:https://sivankovil.ch/event/%e0%ae%a4%e0%af%88%e0%ae%aa%e0%af%8d%e0%ae%aa%e0%af%8a%e0%ae%99%e0%af%8d%e0%ae%95%e0%ae%b2%e0%af%8d/
END:VEVENT
END:VCALENDAR