BEGIN:VCALENDAR
VERSION:2.0
PRODID:-//அருள்மிகு சிவன் கோவில் - ECPv6.15.20//NONSGML v1.0//EN
CALSCALE:GREGORIAN
METHOD:PUBLISH
X-WR-CALNAME:அருள்மிகு சிவன் கோவில்
X-ORIGINAL-URL:https://sivankovil.ch
X-WR-CALDESC:Events for அருள்மிகு சிவன் கோவில்
REFRESH-INTERVAL;VALUE=DURATION:PT1H
X-Robots-Tag:noindex
X-PUBLISHED-TTL:PT1H
BEGIN:VTIMEZONE
TZID:UTC
BEGIN:STANDARD
TZOFFSETFROM:+0000
TZOFFSETTO:+0000
TZNAME:UTC
DTSTART:20250101T000000
END:STANDARD
END:VTIMEZONE
BEGIN:VEVENT
DTSTART;VALUE=DATE:20260926
DTEND;VALUE=DATE:20260927
DTSTAMP:20260423T082930
CREATED:20251217T070212Z
LAST-MODIFIED:20251217T070212Z
UID:8463-1790380800-1790467199@sivankovil.ch
SUMMARY:பூரணை விரதம்\, 2ம் புரட்டாதிசச்சனி விரதம்
DESCRIPTION:
URL:https://sivankovil.ch/event/%e0%ae%aa%e0%af%82%e0%ae%b0%e0%ae%a3%e0%af%88-%e0%ae%b5%e0%ae%bf%e0%ae%b0%e0%ae%a4%e0%ae%ae%e0%af%8d-2%e0%ae%ae%e0%af%8d-%e0%ae%aa%e0%af%81%e0%ae%b0%e0%ae%9f%e0%af%8d%e0%ae%9f%e0%ae%be%e0%ae%a4/
END:VEVENT
END:VCALENDAR