BEGIN:VCALENDAR
VERSION:2.0
PRODID:-//அருள்மிகு சிவன் கோவில் - ECPv6.15.20//NONSGML v1.0//EN
CALSCALE:GREGORIAN
METHOD:PUBLISH
X-WR-CALNAME:அருள்மிகு சிவன் கோவில்
X-ORIGINAL-URL:https://sivankovil.ch
X-WR-CALDESC:Events for அருள்மிகு சிவன் கோவில்
REFRESH-INTERVAL;VALUE=DURATION:PT1H
X-Robots-Tag:noindex
X-PUBLISHED-TTL:PT1H
BEGIN:VTIMEZONE
TZID:UTC
BEGIN:STANDARD
TZOFFSETFROM:+0000
TZOFFSETTO:+0000
TZNAME:UTC
DTSTART:20230101T000000
END:STANDARD
END:VTIMEZONE
BEGIN:VEVENT
DTSTART;VALUE=DATE:20240108
DTEND;VALUE=DATE:20240109
DTSTAMP:20260424T070229
CREATED:20240110T053508Z
LAST-MODIFIED:20240110T053527Z
UID:7259-1704672000-1704758399@sivankovil.ch
SUMMARY:பிரதோச விரதம்
DESCRIPTION:
URL:https://sivankovil.ch/event/%e0%ae%aa%e0%ae%bf%e0%ae%b0%e0%ae%a4%e0%af%8b%e0%ae%9a-%e0%ae%b5%e0%ae%bf%e0%ae%b0%e0%ae%a4%e0%ae%ae%e0%af%8d-39/
END:VEVENT
BEGIN:VEVENT
DTSTART;VALUE=DATE:20240111
DTEND;VALUE=DATE:20240112
DTSTAMP:20260424T070229
CREATED:20240110T053554Z
LAST-MODIFIED:20240110T053554Z
UID:7261-1704931200-1705017599@sivankovil.ch
SUMMARY:அமாவாசை விரதம்
DESCRIPTION:
URL:https://sivankovil.ch/event/%e0%ae%85%e0%ae%ae%e0%ae%be%e0%ae%b5%e0%ae%be%e0%ae%9a%e0%af%88-%e0%ae%b5%e0%ae%bf%e0%ae%b0%e0%ae%a4%e0%ae%ae%e0%af%8d-9/
END:VEVENT
BEGIN:VEVENT
DTSTART;VALUE=DATE:20240114
DTEND;VALUE=DATE:20240115
DTSTAMP:20260424T070229
CREATED:20240110T053639Z
LAST-MODIFIED:20240110T053639Z
UID:7263-1705190400-1705276799@sivankovil.ch
SUMMARY:சதுர்த்தி விரதம்
DESCRIPTION:
URL:https://sivankovil.ch/event/%e0%ae%9a%e0%ae%a4%e0%af%81%e0%ae%b0%e0%af%8d%e0%ae%a4%e0%af%8d%e0%ae%a4%e0%ae%bf-%e0%ae%b5%e0%ae%bf%e0%ae%b0%e0%ae%a4%e0%ae%ae%e0%af%8d-18/
END:VEVENT
BEGIN:VEVENT
DTSTART;VALUE=DATE:20240115
DTEND;VALUE=DATE:20240116
DTSTAMP:20260424T070229
CREATED:20240110T053910Z
LAST-MODIFIED:20240110T053910Z
UID:7265-1705276800-1705363199@sivankovil.ch
SUMMARY:சதுர்த்தி விரதம்மாதப்பிறப்பு\, தைப்பொங்கல்
DESCRIPTION:
URL:https://sivankovil.ch/event/%e0%ae%9a%e0%ae%a4%e0%af%81%e0%ae%b0%e0%af%8d%e0%ae%a4%e0%af%8d%e0%ae%a4%e0%ae%bf-%e0%ae%b5%e0%ae%bf%e0%ae%b0%e0%ae%a4%e0%ae%ae%e0%af%8d%e0%ae%ae%e0%ae%be%e0%ae%a4%e0%ae%aa%e0%af%8d%e0%ae%aa%e0%ae%bf/
END:VEVENT
BEGIN:VEVENT
DTSTART;VALUE=DATE:20240120
DTEND;VALUE=DATE:20240121
DTSTAMP:20260424T070229
CREATED:20240110T054034Z
LAST-MODIFIED:20240110T054034Z
UID:7267-1705708800-1705795199@sivankovil.ch
SUMMARY:கார்த்திகை விரதம்
DESCRIPTION:
URL:https://sivankovil.ch/event/%e0%ae%95%e0%ae%be%e0%ae%b0%e0%af%8d%e0%ae%a4%e0%af%8d%e0%ae%a4%e0%ae%bf%e0%ae%95%e0%af%88-%e0%ae%b5%e0%ae%bf%e0%ae%b0%e0%ae%a4%e0%ae%ae%e0%af%8d-18/
END:VEVENT
BEGIN:VEVENT
DTSTART;VALUE=DATE:20240123
DTEND;VALUE=DATE:20240124
DTSTAMP:20260424T070229
CREATED:20240110T054133Z
LAST-MODIFIED:20240110T054133Z
UID:7269-1705968000-1706054399@sivankovil.ch
SUMMARY:பிரதோச விரதம்
DESCRIPTION:
URL:https://sivankovil.ch/event/%e0%ae%aa%e0%ae%bf%e0%ae%b0%e0%ae%a4%e0%af%8b%e0%ae%9a-%e0%ae%b5%e0%ae%bf%e0%ae%b0%e0%ae%a4%e0%ae%ae%e0%af%8d-40/
END:VEVENT
BEGIN:VEVENT
DTSTART;VALUE=DATE:20240125
DTEND;VALUE=DATE:20240126
DTSTAMP:20260424T070229
CREATED:20240110T054258Z
LAST-MODIFIED:20240110T054258Z
UID:7271-1706140800-1706227199@sivankovil.ch
SUMMARY:பூரணை விரதம்\, தைப்பூசம்
DESCRIPTION:
URL:https://sivankovil.ch/event/%e0%ae%aa%e0%af%82%e0%ae%b0%e0%ae%a3%e0%af%88-%e0%ae%b5%e0%ae%bf%e0%ae%b0%e0%ae%a4%e0%ae%ae%e0%af%8d-%e0%ae%a4%e0%af%88%e0%ae%aa%e0%af%8d%e0%ae%aa%e0%af%82%e0%ae%9a%e0%ae%ae%e0%af%8d-2/
END:VEVENT
BEGIN:VEVENT
DTSTART;VALUE=DATE:20240129
DTEND;VALUE=DATE:20240130
DTSTAMP:20260424T070229
CREATED:20240110T054404Z
LAST-MODIFIED:20240110T054404Z
UID:7273-1706486400-1706572799@sivankovil.ch
SUMMARY:சங்கடகர சதுர்த்தி விரதம்
DESCRIPTION:
URL:https://sivankovil.ch/event/%e0%ae%9a%e0%ae%99%e0%af%8d%e0%ae%95%e0%ae%9f%e0%ae%95%e0%ae%b0-%e0%ae%9a%e0%ae%a4%e0%af%81%e0%ae%b0%e0%af%8d%e0%ae%a4%e0%af%8d%e0%ae%a4%e0%ae%bf-%e0%ae%b5%e0%ae%bf%e0%ae%b0%e0%ae%a4%e0%ae%ae-23/
END:VEVENT
END:VCALENDAR