BEGIN:VCALENDAR
VERSION:2.0
PRODID:-//அருள்மிகு சிவன் கோவில் - ECPv6.15.20//NONSGML v1.0//EN
CALSCALE:GREGORIAN
METHOD:PUBLISH
X-WR-CALNAME:அருள்மிகு சிவன் கோவில்
X-ORIGINAL-URL:https://sivankovil.ch
X-WR-CALDESC:Events for அருள்மிகு சிவன் கோவில்
REFRESH-INTERVAL;VALUE=DURATION:PT1H
X-Robots-Tag:noindex
X-PUBLISHED-TTL:PT1H
BEGIN:VTIMEZONE
TZID:UTC
BEGIN:STANDARD
TZOFFSETFROM:+0000
TZOFFSETTO:+0000
TZNAME:UTC
DTSTART:20250101T000000
END:STANDARD
END:VTIMEZONE
BEGIN:VEVENT
DTSTART;VALUE=DATE:20260501
DTEND;VALUE=DATE:20260502
DTSTAMP:20260421T231028
CREATED:20251217T052852Z
LAST-MODIFIED:20251217T052852Z
UID:8334-1777593600-1777679999@sivankovil.ch
SUMMARY:சித்திராப் பூரணை விரதம்
DESCRIPTION:
URL:https://sivankovil.ch/event/%e0%ae%9a%e0%ae%bf%e0%ae%a4%e0%af%8d%e0%ae%a4%e0%ae%bf%e0%ae%b0%e0%ae%be%e0%ae%aa%e0%af%8d-%e0%ae%aa%e0%af%82%e0%ae%b0%e0%ae%a3%e0%af%88-%e0%ae%b5%e0%ae%bf%e0%ae%b0%e0%ae%a4%e0%ae%ae%e0%af%8d-5/
END:VEVENT
BEGIN:VEVENT
DTSTART;VALUE=DATE:20260505
DTEND;VALUE=DATE:20260506
DTSTAMP:20260421T231028
CREATED:20251217T052953Z
LAST-MODIFIED:20251217T052953Z
UID:8336-1777939200-1778025599@sivankovil.ch
SUMMARY:சங்கடகர சதுர்த்தி விரதம்
DESCRIPTION:
URL:https://sivankovil.ch/event/%e0%ae%9a%e0%ae%99%e0%af%8d%e0%ae%95%e0%ae%9f%e0%ae%95%e0%ae%b0-%e0%ae%9a%e0%ae%a4%e0%af%81%e0%ae%b0%e0%af%8d%e0%ae%a4%e0%af%8d%e0%ae%a4%e0%ae%bf-%e0%ae%b5%e0%ae%bf%e0%ae%b0%e0%ae%a4%e0%ae%ae-43/
END:VEVENT
BEGIN:VEVENT
DTSTART;VALUE=DATE:20260508
DTEND;VALUE=DATE:20260509
DTSTAMP:20260421T231028
CREATED:20251217T053052Z
LAST-MODIFIED:20251217T053052Z
UID:8338-1778198400-1778284799@sivankovil.ch
SUMMARY:நடேசரபிசேகம்
DESCRIPTION:
URL:https://sivankovil.ch/event/%e0%ae%a8%e0%ae%9f%e0%af%87%e0%ae%9a%e0%ae%b0%e0%ae%aa%e0%ae%bf%e0%ae%9a%e0%af%87%e0%ae%95%e0%ae%ae%e0%af%8d-14/
END:VEVENT
BEGIN:VEVENT
DTSTART;VALUE=DATE:20260514
DTEND;VALUE=DATE:20260515
DTSTAMP:20260421T231028
CREATED:20251217T053150Z
LAST-MODIFIED:20251217T053150Z
UID:8340-1778716800-1778803199@sivankovil.ch
SUMMARY:பிரதோச விரதம்
DESCRIPTION:
URL:https://sivankovil.ch/event/%e0%ae%aa%e0%ae%bf%e0%ae%b0%e0%ae%a4%e0%af%8b%e0%ae%9a-%e0%ae%b5%e0%ae%bf%e0%ae%b0%e0%ae%a4%e0%ae%ae%e0%af%8d-75/
END:VEVENT
BEGIN:VEVENT
DTSTART;VALUE=DATE:20260515
DTEND;VALUE=DATE:20260516
DTSTAMP:20260421T231028
CREATED:20251217T053253Z
LAST-MODIFIED:20251217T053253Z
UID:8342-1778803200-1778889599@sivankovil.ch
SUMMARY:வைகாசி மாதப்பிறப்பு
DESCRIPTION:
URL:https://sivankovil.ch/event/%e0%ae%b5%e0%af%88%e0%ae%95%e0%ae%be%e0%ae%9a%e0%ae%bf-%e0%ae%ae%e0%ae%be%e0%ae%a4%e0%ae%aa%e0%af%8d%e0%ae%aa%e0%ae%bf%e0%ae%b1%e0%ae%aa%e0%af%8d%e0%ae%aa%e0%af%81-4/
END:VEVENT
BEGIN:VEVENT
DTSTART;VALUE=DATE:20260516
DTEND;VALUE=DATE:20260517
DTSTAMP:20260421T231028
CREATED:20251217T053353Z
LAST-MODIFIED:20251217T053353Z
UID:8344-1778889600-1778975999@sivankovil.ch
SUMMARY:அமாவாசை விரதம்\, கார்த்திகை விரதம்
DESCRIPTION:
URL:https://sivankovil.ch/event/%e0%ae%85%e0%ae%ae%e0%ae%be%e0%ae%b5%e0%ae%be%e0%ae%9a%e0%af%88-%e0%ae%b5%e0%ae%bf%e0%ae%b0%e0%ae%a4%e0%ae%ae%e0%af%8d-%e0%ae%95%e0%ae%be%e0%ae%b0%e0%af%8d%e0%ae%a4%e0%af%8d%e0%ae%a4%e0%ae%bf-3/
END:VEVENT
BEGIN:VEVENT
DTSTART;VALUE=DATE:20260519
DTEND;VALUE=DATE:20260520
DTSTAMP:20260421T231028
CREATED:20251217T053515Z
LAST-MODIFIED:20251217T053515Z
UID:8346-1779148800-1779235199@sivankovil.ch
SUMMARY:சதுர்த்தி விரதம்
DESCRIPTION:
URL:https://sivankovil.ch/event/%e0%ae%9a%e0%ae%a4%e0%af%81%e0%ae%b0%e0%af%8d%e0%ae%a4%e0%af%8d%e0%ae%a4%e0%ae%bf-%e0%ae%b5%e0%ae%bf%e0%ae%b0%e0%ae%a4%e0%ae%ae%e0%af%8d-35/
END:VEVENT
BEGIN:VEVENT
DTSTART;VALUE=DATE:20260526
DTEND;VALUE=DATE:20260527
DTSTAMP:20260421T231028
CREATED:20251217T053611Z
LAST-MODIFIED:20251217T053611Z
UID:8348-1779753600-1779839999@sivankovil.ch
SUMMARY:மணவாளக்கோலம்
DESCRIPTION:
URL:https://sivankovil.ch/event/%e0%ae%ae%e0%ae%a3%e0%ae%b5%e0%ae%be%e0%ae%b3%e0%ae%95%e0%af%8d%e0%ae%95%e0%af%8b%e0%ae%b2%e0%ae%ae%e0%af%8d-4/
END:VEVENT
BEGIN:VEVENT
DTSTART;VALUE=DATE:20260528
DTEND;VALUE=DATE:20260529
DTSTAMP:20260421T231028
CREATED:20251217T053716Z
LAST-MODIFIED:20251217T053716Z
UID:8350-1779926400-1780012799@sivankovil.ch
SUMMARY:பிரதோச விரதம்
DESCRIPTION:
URL:https://sivankovil.ch/event/%e0%ae%aa%e0%ae%bf%e0%ae%b0%e0%ae%a4%e0%af%8b%e0%ae%9a-%e0%ae%b5%e0%ae%bf%e0%ae%b0%e0%ae%a4%e0%ae%ae%e0%af%8d-76/
END:VEVENT
BEGIN:VEVENT
DTSTART;VALUE=DATE:20260529
DTEND;VALUE=DATE:20260530
DTSTAMP:20260421T231028
CREATED:20251217T053828Z
LAST-MODIFIED:20251217T053828Z
UID:8352-1780012800-1780099199@sivankovil.ch
SUMMARY:வைகாசி விசாகம்
DESCRIPTION:
URL:https://sivankovil.ch/event/%e0%ae%b5%e0%af%88%e0%ae%95%e0%ae%be%e0%ae%9a%e0%ae%bf-%e0%ae%b5%e0%ae%bf%e0%ae%9a%e0%ae%be%e0%ae%95%e0%ae%ae%e0%af%8d-4/
END:VEVENT
BEGIN:VEVENT
DTSTART;VALUE=DATE:20260530
DTEND;VALUE=DATE:20260531
DTSTAMP:20260421T231028
CREATED:20251217T053923Z
LAST-MODIFIED:20251217T053923Z
UID:8354-1780099200-1780185599@sivankovil.ch
SUMMARY:பூரணை விரதம்
DESCRIPTION:
URL:https://sivankovil.ch/event/%e0%ae%aa%e0%af%82%e0%ae%b0%e0%ae%a3%e0%af%88-%e0%ae%b5%e0%ae%bf%e0%ae%b0%e0%ae%a4%e0%ae%ae%e0%af%8d-26/
END:VEVENT
END:VCALENDAR