BEGIN:VCALENDAR
VERSION:2.0
PRODID:-//அருள்மிகு சிவன் கோவில் - ECPv6.15.20//NONSGML v1.0//EN
CALSCALE:GREGORIAN
METHOD:PUBLISH
X-WR-CALNAME:அருள்மிகு சிவன் கோவில்
X-ORIGINAL-URL:https://sivankovil.ch
X-WR-CALDESC:Events for அருள்மிகு சிவன் கோவில்
REFRESH-INTERVAL;VALUE=DURATION:PT1H
X-Robots-Tag:noindex
X-PUBLISHED-TTL:PT1H
BEGIN:VTIMEZONE
TZID:UTC
BEGIN:STANDARD
TZOFFSETFROM:+0000
TZOFFSETTO:+0000
TZNAME:UTC
DTSTART:20250101T000000
END:STANDARD
END:VTIMEZONE
BEGIN:VEVENT
DTSTART;VALUE=DATE:20260903
DTEND;VALUE=DATE:20260904
DTSTAMP:20260422T174718
CREATED:20251217T064756Z
LAST-MODIFIED:20251217T064756Z
UID:8443-1788393600-1788479999@sivankovil.ch
SUMMARY:கார்த்திகை விரதம்
DESCRIPTION:
URL:https://sivankovil.ch/event/%e0%ae%95%e0%ae%be%e0%ae%b0%e0%af%8d%e0%ae%a4%e0%af%8d%e0%ae%a4%e0%ae%bf%e0%ae%95%e0%af%88-%e0%ae%b5%e0%ae%bf%e0%ae%b0%e0%ae%a4%e0%ae%ae%e0%af%8d-41/
END:VEVENT
BEGIN:VEVENT
DTSTART;VALUE=DATE:20260906
DTEND;VALUE=DATE:20260907
DTSTAMP:20260422T174718
CREATED:20251217T064839Z
LAST-MODIFIED:20251217T064839Z
UID:8445-1788652800-1788739199@sivankovil.ch
SUMMARY:3ம் ஆவணி ஞாயிறு
DESCRIPTION:
URL:https://sivankovil.ch/event/3%e0%ae%ae%e0%af%8d-%e0%ae%86%e0%ae%b5%e0%ae%a3%e0%ae%bf-%e0%ae%9e%e0%ae%be%e0%ae%af%e0%ae%bf%e0%ae%b1%e0%af%81-5/
END:VEVENT
BEGIN:VEVENT
DTSTART;VALUE=DATE:20260908
DTEND;VALUE=DATE:20260909
DTSTAMP:20260422T174718
CREATED:20251217T064940Z
LAST-MODIFIED:20251217T064940Z
UID:8447-1788825600-1788911999@sivankovil.ch
SUMMARY:பிரதோச விரதம்
DESCRIPTION:
URL:https://sivankovil.ch/event/%e0%ae%aa%e0%ae%bf%e0%ae%b0%e0%ae%a4%e0%af%8b%e0%ae%9a-%e0%ae%b5%e0%ae%bf%e0%ae%b0%e0%ae%a4%e0%ae%ae%e0%af%8d-81/
END:VEVENT
BEGIN:VEVENT
DTSTART;VALUE=DATE:20260910
DTEND;VALUE=DATE:20260911
DTSTAMP:20260422T174718
CREATED:20251217T065046Z
LAST-MODIFIED:20251217T065046Z
UID:8449-1788998400-1789084799@sivankovil.ch
SUMMARY:அமாவாசை விரதம்
DESCRIPTION:
URL:https://sivankovil.ch/event/%e0%ae%85%e0%ae%ae%e0%ae%be%e0%ae%b5%e0%ae%be%e0%ae%9a%e0%af%88-%e0%ae%b5%e0%ae%bf%e0%ae%b0%e0%ae%a4%e0%ae%ae%e0%af%8d-38/
END:VEVENT
BEGIN:VEVENT
DTSTART;VALUE=DATE:20260913
DTEND;VALUE=DATE:20260914
DTSTAMP:20260422T174718
CREATED:20251217T065200Z
LAST-MODIFIED:20251217T065200Z
UID:8451-1789257600-1789343999@sivankovil.ch
SUMMARY:4ம் ஆவணி ஞாயிறு
DESCRIPTION:
URL:https://sivankovil.ch/event/4%e0%ae%ae%e0%af%8d-%e0%ae%86%e0%ae%b5%e0%ae%a3%e0%ae%bf-%e0%ae%9e%e0%ae%be%e0%ae%af%e0%ae%bf%e0%ae%b1%e0%af%81-4/
END:VEVENT
BEGIN:VEVENT
DTSTART;VALUE=DATE:20260914
DTEND;VALUE=DATE:20260915
DTSTAMP:20260422T174718
CREATED:20251217T065540Z
LAST-MODIFIED:20251217T065540Z
UID:8453-1789344000-1789430399@sivankovil.ch
SUMMARY:விநாயகசதுர்த்தி விரதம்
DESCRIPTION:
URL:https://sivankovil.ch/event/%e0%ae%b5%e0%ae%bf%e0%ae%a8%e0%ae%be%e0%ae%af%e0%ae%95%e0%ae%9a%e0%ae%a4%e0%af%81%e0%ae%b0%e0%af%8d%e0%ae%a4%e0%af%8d%e0%ae%a4%e0%ae%bf-%e0%ae%b5%e0%ae%bf%e0%ae%b0%e0%ae%a4%e0%ae%ae%e0%af%8d/
END:VEVENT
BEGIN:VEVENT
DTSTART;VALUE=DATE:20260917
DTEND;VALUE=DATE:20260918
DTSTAMP:20260422T174718
CREATED:20251217T065724Z
LAST-MODIFIED:20251217T065724Z
UID:8455-1789603200-1789689599@sivankovil.ch
SUMMARY:புரட்டாதி மாதப்பிறப்பு
DESCRIPTION:
URL:https://sivankovil.ch/event/%e0%ae%aa%e0%af%81%e0%ae%b0%e0%ae%9f%e0%af%8d%e0%ae%9f%e0%ae%be%e0%ae%a4%e0%ae%bf-%e0%ae%ae%e0%ae%be%e0%ae%a4%e0%ae%aa%e0%af%8d%e0%ae%aa%e0%ae%bf%e0%ae%b1%e0%ae%aa%e0%af%8d%e0%ae%aa%e0%af%81-3/
END:VEVENT
BEGIN:VEVENT
DTSTART;VALUE=DATE:20260919
DTEND;VALUE=DATE:20260920
DTSTAMP:20260422T174718
CREATED:20251217T065854Z
LAST-MODIFIED:20251217T065854Z
UID:8457-1789776000-1789862399@sivankovil.ch
SUMMARY:1ம் புரட்டாதிச்சனி விரதம்
DESCRIPTION:
URL:https://sivankovil.ch/event/1%e0%ae%ae%e0%af%8d-%e0%ae%aa%e0%af%81%e0%ae%b0%e0%ae%9f%e0%af%8d%e0%ae%9f%e0%ae%be%e0%ae%a4%e0%ae%bf%e0%ae%9a%e0%af%8d%e0%ae%9a%e0%ae%a9%e0%ae%bf-%e0%ae%b5%e0%ae%bf%e0%ae%b0%e0%ae%a4%e0%ae%ae-4/
END:VEVENT
BEGIN:VEVENT
DTSTART;VALUE=DATE:20260923
DTEND;VALUE=DATE:20260924
DTSTAMP:20260422T174718
CREATED:20251217T070020Z
LAST-MODIFIED:20251217T070020Z
UID:8459-1790121600-1790207999@sivankovil.ch
SUMMARY:பிரதோச விரதம்
DESCRIPTION:
URL:https://sivankovil.ch/event/%e0%ae%aa%e0%ae%bf%e0%ae%b0%e0%ae%a4%e0%af%8b%e0%ae%9a-%e0%ae%b5%e0%ae%bf%e0%ae%b0%e0%ae%a4%e0%ae%ae%e0%af%8d-82/
END:VEVENT
BEGIN:VEVENT
DTSTART;VALUE=DATE:20260925
DTEND;VALUE=DATE:20260926
DTSTAMP:20260422T174718
CREATED:20251217T070118Z
LAST-MODIFIED:20251217T070118Z
UID:8461-1790294400-1790380799@sivankovil.ch
SUMMARY:நடேசரபிசேகம்
DESCRIPTION:
URL:https://sivankovil.ch/event/%e0%ae%a8%e0%ae%9f%e0%af%87%e0%ae%9a%e0%ae%b0%e0%ae%aa%e0%ae%bf%e0%ae%9a%e0%af%87%e0%ae%95%e0%ae%ae%e0%af%8d-15/
END:VEVENT
BEGIN:VEVENT
DTSTART;VALUE=DATE:20260926
DTEND;VALUE=DATE:20260927
DTSTAMP:20260422T174718
CREATED:20251217T070212Z
LAST-MODIFIED:20251217T070212Z
UID:8463-1790380800-1790467199@sivankovil.ch
SUMMARY:பூரணை விரதம்\, 2ம் புரட்டாதிசச்சனி விரதம்
DESCRIPTION:
URL:https://sivankovil.ch/event/%e0%ae%aa%e0%af%82%e0%ae%b0%e0%ae%a3%e0%af%88-%e0%ae%b5%e0%ae%bf%e0%ae%b0%e0%ae%a4%e0%ae%ae%e0%af%8d-2%e0%ae%ae%e0%af%8d-%e0%ae%aa%e0%af%81%e0%ae%b0%e0%ae%9f%e0%af%8d%e0%ae%9f%e0%ae%be%e0%ae%a4/
END:VEVENT
BEGIN:VEVENT
DTSTART;VALUE=DATE:20260927
DTEND;VALUE=DATE:20260928
DTSTAMP:20260422T174718
CREATED:20251217T070304Z
LAST-MODIFIED:20251217T070304Z
UID:8465-1790467200-1790553599@sivankovil.ch
SUMMARY:மகாலயபட்ச ஆரம்பம்
DESCRIPTION:
URL:https://sivankovil.ch/event/%e0%ae%ae%e0%ae%95%e0%ae%be%e0%ae%b2%e0%ae%af%e0%ae%aa%e0%ae%9f%e0%af%8d%e0%ae%9a-%e0%ae%86%e0%ae%b0%e0%ae%ae%e0%af%8d%e0%ae%aa%e0%ae%ae%e0%af%8d/
END:VEVENT
BEGIN:VEVENT
DTSTART;VALUE=DATE:20260929
DTEND;VALUE=DATE:20260930
DTSTAMP:20260422T174718
CREATED:20251217T070409Z
LAST-MODIFIED:20251217T070409Z
UID:8467-1790640000-1790726399@sivankovil.ch
SUMMARY:சங்கடகர சதுர்த்தி விரதம்
DESCRIPTION:
URL:https://sivankovil.ch/event/%e0%ae%9a%e0%ae%99%e0%af%8d%e0%ae%95%e0%ae%9f%e0%ae%95%e0%ae%b0-%e0%ae%9a%e0%ae%a4%e0%af%81%e0%ae%b0%e0%af%8d%e0%ae%a4%e0%af%8d%e0%ae%a4%e0%ae%bf-%e0%ae%b5%e0%ae%bf%e0%ae%b0%e0%ae%a4%e0%ae%ae-48/
END:VEVENT
BEGIN:VEVENT
DTSTART;VALUE=DATE:20260930
DTEND;VALUE=DATE:20261001
DTSTAMP:20260422T174718
CREATED:20251217T070453Z
LAST-MODIFIED:20251217T070453Z
UID:8469-1790726400-1790812799@sivankovil.ch
SUMMARY:கார்த்திகை விரதம்
DESCRIPTION:
URL:https://sivankovil.ch/event/%e0%ae%95%e0%ae%be%e0%ae%b0%e0%af%8d%e0%ae%a4%e0%af%8d%e0%ae%a4%e0%ae%bf%e0%ae%95%e0%af%88-%e0%ae%b5%e0%ae%bf%e0%ae%b0%e0%ae%a4%e0%ae%ae%e0%af%8d-42/
END:VEVENT
END:VCALENDAR